BEGIN:VCALENDAR
VERSION:2.0
PRODID:-//kompzvh//kompzvh.de//DE
CALSCALE:GREGORIAN
BEGIN:VEVENT
DTSTART:20260429CEST000000
DTEND:20260613CEST000000
LOCATION:
DTSTAMP:20260401CEST160926
SUMMARY:Hessenweite Online-Basisqualifizierung zur WIR-Lots*in 2026
URL;VALUE=URI:https://kompetenzzentrum-vielfalt-hessen.de/integrationslotsen/termine/online-basisqualifizierung-zur-wir-lots-in/
DESCRIPTION:An acht Terminen in der Zeit vom 29. April bis 13. Juni findet die hessenweite Basisqualifizierung für interessierte WIR Lots*innen statt. Die Anmeldefrist ist der 20. März 2026.
UID:20260401CEST160926-20260429CEST000000-20260613CEST000000
END:VEVENT
END:VCALENDAR